BEGIN:VCALENDAR
VERSION:2.0
PRODID:-//Elson S. Floyd College of Medicine News - ECPv6.1.3//NONSGML v1.0//EN
CALSCALE:GREGORIAN
METHOD:PUBLISH
X-WR-CALNAME:Elson S. Floyd College of Medicine News
X-ORIGINAL-URL:https://medicine.wsu.edu/news
X-WR-CALDESC:Events for Elson S. Floyd College of Medicine News
REFRESH-INTERVAL;VALUE=DURATION:PT1H
X-Robots-Tag:noindex
X-PUBLISHED-TTL:PT1H
BEGIN:VTIMEZONE
TZID:America/Los_Angeles
BEGIN:DAYLIGHT
TZOFFSETFROM:-0800
TZOFFSETTO:-0700
TZNAME:PDT
DTSTART:20240310T100000
END:DAYLIGHT
BEGIN:STANDARD
TZOFFSETFROM:-0700
TZOFFSETTO:-0800
TZNAME:PST
DTSTART:20241103T090000
END:STANDARD
END:VTIMEZONE
BEGIN:VEVENT
DTSTART;TZID=America/Los_Angeles:20240725T121000
DTEND;TZID=America/Los_Angeles:20240725T130000
DTSTAMP:20260424T140558
CREATED:20240722T205228Z
LAST-MODIFIED:20240723T151056Z
UID:31386-1721909400-1721912400@medicine.wsu.edu
SUMMARY:Department of Community and Behavioral Health Seminar
DESCRIPTION:Public health tenure track assistant professor candidate Lauren Gilbert\, PhD\, MPH\, will present “Using Community-Engaged Approaches to Address the Opioid Crisis within Underserved Communities.” \n  \nDate: Thursday\, July 25\nTime: 12:10 p.m.\nLocation: Spokane Nursing Building (SNRS) Room 205 \n  \nYou can also join via zoom:\nhttps://wsu.zoom.us/j/94241590251?pwd=sPjihHQ63rOPtwEynp8qNrv8afUuzw.1&from=addon\nMeeting ID: 942 4159 0251\nPasscode: 786877 \n  \nFor questions please email\, kimberly.cufley@wsu.edu.
URL:https://medicine.wsu.edu/news/event/department-of-community-and-behavioral-health-seminar/
LOCATION:SNRS 205\, 103 E Spokane Falls Blvd\, Spokane\, WA\, 99202\, United States
CATEGORIES:Community and Behavioral Health
ATTACH;FMTTYPE=image/jpeg:https://wpcdn.web.wsu.edu/wp-medicine/uploads/sites/3023/2024/07/Department-of-Community-and-Behavioral-Health.jpg
END:VEVENT
BEGIN:VEVENT
DTSTART;TZID=America/Los_Angeles:20240805T001000
DTEND;TZID=America/Los_Angeles:20240805T130000
DTSTAMP:20260424T140558
CREATED:20240729T211406Z
LAST-MODIFIED:20240729T211406Z
UID:31457-1722816600-1722862800@medicine.wsu.edu
SUMMARY:Department of Community and Behavioral Health Seminar
DESCRIPTION:Public health tenure track assistant professor candidate Anna Hing\, PhD\, MPH\, will present “Structural Racism and Voter Suppression: The Relationship between Voting Policies\, Power\, and Health Inequities.” \n  \nDate: Monday\, August 5\nTime: 12:10 p.m.\nLocation: SNRS 205 \n  \nYou can also join via Zoom:\nhttps://wsu.zoom.us/j/91817650275?pwd=ubsxd07HGFxM1REsGkanmOJaBzPh2Y.1&from=addon\nMeeting ID: 918 1765 0275\nPasscode: 764472 \n  \nFor questions please contact Lindsey Holcomb at lindsey.holcomb@wsu.edu or Bethany Fruci at bfruci@wsu.edu.
URL:https://medicine.wsu.edu/news/event/department-of-community-and-behavioral-health-seminar-2/
LOCATION:SNRS 205\, 103 E Spokane Falls Blvd\, Spokane\, WA\, 99202\, United States
CATEGORIES:Community and Behavioral Health
ATTACH;FMTTYPE=image/jpeg:https://wpcdn.web.wsu.edu/wp-medicine/uploads/sites/3023/2024/07/Department-of-Community-and-Behavioral-Health.jpg
END:VEVENT
END:VCALENDAR